BEGIN:VCALENDAR
VERSION:2.0
PRODID:icalendar-ruby
CALSCALE:GREGORIAN
METHOD:PUBLISH
BEGIN:VEVENT
DTSTAMP:20260421T001041Z
UID:5-1022076@mtwashingtonmissionarybaptist.org
DTSTART:20261101T160000Z
DTEND:20261101T170000Z
CLASS:PUBLIC
CREATED:20260420T174349
DESCRIPTION:Sunday Worship
LAST-MODIFIED:20260420T174349
LOCATION:
SUMMARY:Sunday Worship
URL;VALUE=URI:https://mtwashingtonmissionarybaptist.org/events/sunday-worsh
 ip/2026-11-01
END:VEVENT
END:VCALENDAR
