BEGIN:VCALENDAR
VERSION:2.0
PRODID:icalendar-ruby
CALSCALE:GREGORIAN
METHOD:PUBLISH
BEGIN:VEVENT
DTSTAMP:20260420T220921Z
UID:5-1022075@mtwashingtonmissionarybaptist.org
DTSTART:20261025T150000Z
DTEND:20261025T160000Z
CLASS:PUBLIC
CREATED:20260420T174349
DESCRIPTION:Sunday Worship
LAST-MODIFIED:20260420T174349
LOCATION:
SUMMARY:Sunday Worship
URL;VALUE=URI:https://mtwashingtonmissionarybaptist.org/events/sunday-worsh
 ip/2026-10-25
END:VEVENT
END:VCALENDAR
