BEGIN:VCALENDAR
VERSION:2.0
PRODID:icalendar-ruby
CALSCALE:GREGORIAN
METHOD:PUBLISH
BEGIN:VEVENT
DTSTAMP:20260420T184354Z
UID:5-1020937@mtwashingtonmissionarybaptist.org
DTSTART:20261011T150000Z
DTEND:20261011T160000Z
CLASS:PUBLIC
CREATED:20260420T123321
DESCRIPTION:Sunday Worship
LAST-MODIFIED:20260420T123321
LOCATION:
SUMMARY:Sunday Worship
URL;VALUE=URI:https://mtwashingtonmissionarybaptist.org/events/sunday-worsh
 ip/2026-10-11
END:VEVENT
END:VCALENDAR
