BEGIN:VCALENDAR
VERSION:2.0
PRODID:icalendar-ruby
CALSCALE:GREGORIAN
METHOD:PUBLISH
BEGIN:VEVENT
DTSTAMP:20260420T144753Z
UID:5-1020367@mtwashingtonmissionarybaptist.org
DTSTART:20260927T150000Z
DTEND:20260927T160000Z
CLASS:PUBLIC
CREATED:20260420T095920
DESCRIPTION:Sunday Worship
LAST-MODIFIED:20260420T095920
LOCATION:
SUMMARY:Sunday Worship
URL;VALUE=URI:https://mtwashingtonmissionarybaptist.org/events/sunday-worsh
 ip/2026-09-27
END:VEVENT
END:VCALENDAR
